BEGIN:VCALENDAR
VERSION:2.0
PRODID:-//SOL@menteMUSICA - ECPv6.15.20//NONSGML v1.0//EN
CALSCALE:GREGORIAN
METHOD:PUBLISH
X-ORIGINAL-URL:https://solamentemusica.com
X-WR-CALDESC:Eventos para SOL@menteMUSICA
REFRESH-INTERVAL;VALUE=DURATION:PT1H
X-Robots-Tag:noindex
X-PUBLISHED-TTL:PT1H
BEGIN:VTIMEZONE
TZID:America/Mexico_City
BEGIN:STANDARD
TZOFFSETFROM:-0600
TZOFFSETTO:-0600
TZNAME:CST
DTSTART:20250101T000000
END:STANDARD
END:VTIMEZONE
BEGIN:VEVENT
DTSTART;TZID=America/Mexico_City:20260424T170000
DTEND;TZID=America/Mexico_City:20260424T180000
DTSTAMP:20260422T064357
CREATED:20260421T192533Z
LAST-MODIFIED:20260421T192533Z
UID:3130-1777050000-1777053600@solamentemusica.com
SUMMARY:25 Aniversario BLUES FEST . Centro Cultural José Martí
DESCRIPTION:CONCIERTO EXPLANADA\nConcierto ExplanadaEl Centro Cultural José Martí celebrará los 25 años del “Blue Fest”. Lo que comenzó como un encuentro íntimo para los amantes del género\, se convirtió con el paso del tiempo en un referente cultural\, un punto de reunión para músicos\, artistas y público apasionado por el blues.Bandas participantes: Alfredo Vega Wolf Chicago KingsAcompáñanos a disfrutar de este maravilloso encuentro en donde la expresión honesta de la emoción humana\, la improvisación vibrante y la conexión profunda con el público se unen. Viernes 24 de abril\, 2026 De 17 a 20 horasCentro Cultural José Martí #EntradaLibreConsulta más actividades en la #CarteleraCdMx: https://bit.ly/4cT61Ky
URL:https://solamentemusica.com/evento/25-aniversario-blues-fest-centro-cultural-jose-marti/
LOCATION:Centro Cultural José Martí\, Dr. Mora 1\, centro\, Cuauhtémoc\, Mexico\, CDMX\, 06300\, Mexico
CATEGORIES:Concierto
ATTACH;FMTTYPE=image/jpeg:https://solamentemusica.com/wp-content/uploads/2026/04/25bluesfest.jpg
END:VEVENT
END:VCALENDAR