BEGIN:VCALENDAR
VERSION:2.0
PRODID:-//SOL@menteMUSICA - ECPv6.15.20//NONSGML v1.0//EN
CALSCALE:GREGORIAN
METHOD:PUBLISH
X-ORIGINAL-URL:https://solamentemusica.com
X-WR-CALDESC:Eventos para SOL@menteMUSICA
REFRESH-INTERVAL;VALUE=DURATION:PT1H
X-Robots-Tag:noindex
X-PUBLISHED-TTL:PT1H
BEGIN:VTIMEZONE
TZID:America/Mexico_City
BEGIN:STANDARD
TZOFFSETFROM:-0600
TZOFFSETTO:-0600
TZNAME:CST
DTSTART:20250101T000000
END:STANDARD
END:VTIMEZONE
BEGIN:VEVENT
DTSTART;TZID=America/Mexico_City:20260424T170000
DTEND;TZID=America/Mexico_City:20260424T180000
DTSTAMP:20260422T052241
CREATED:20260421T192533Z
LAST-MODIFIED:20260421T192533Z
UID:3130-1777050000-1777053600@solamentemusica.com
SUMMARY:25 Aniversario BLUES FEST . Centro Cultural José Martí
DESCRIPTION:CONCIERTO EXPLANADA\nConcierto ExplanadaEl Centro Cultural José Martí celebrará los 25 años del “Blue Fest”. Lo que comenzó como un encuentro íntimo para los amantes del género\, se convirtió con el paso del tiempo en un referente cultural\, un punto de reunión para músicos\, artistas y público apasionado por el blues.Bandas participantes: Alfredo Vega Wolf Chicago KingsAcompáñanos a disfrutar de este maravilloso encuentro en donde la expresión honesta de la emoción humana\, la improvisación vibrante y la conexión profunda con el público se unen. Viernes 24 de abril\, 2026 De 17 a 20 horasCentro Cultural José Martí #EntradaLibreConsulta más actividades en la #CarteleraCdMx: https://bit.ly/4cT61Ky
URL:https://solamentemusica.com/evento/25-aniversario-blues-fest-centro-cultural-jose-marti/
LOCATION:Centro Cultural José Martí\, Dr. Mora 1\, centro\, Cuauhtémoc\, Mexico\, CDMX\, 06300\, Mexico
CATEGORIES:Concierto
ATTACH;FMTTYPE=image/jpeg:https://solamentemusica.com/wp-content/uploads/2026/04/25bluesfest.jpg
END:VEVENT
BEGIN:VEVENT
DTSTART;TZID=America/Mexico_City:20260426T133000
DTEND;TZID=America/Mexico_City:20260426T143000
DTSTAMP:20260422T052241
CREATED:20260421T185606Z
LAST-MODIFIED:20260421T190131Z
UID:3121-1777210200-1777213800@solamentemusica.com
SUMMARY:Danza Bebé
DESCRIPTION:Danza Bebé\n\n26 abril 2026.  Domingo\, 13:30 y 16:00 h\nAuditorio Blas Galindo\n$150 | 🎟️ Compra tus boletos | Viernes 2×1 en taquillas del Cenart\nA partir de 2 años | Todo público \nEn el marco del Día del niño y de la niña \nBanda Sinfónica de la Escuela Superior de Música\nEnsamble de alientos del maestro Ismael Sánchez \nConcierto didáctico para primeras infancias en el que menores de 1 a 5 años podrán participar en el escenario danzando con movimientos libres\, incentivando su creatividad y desarrollo psicomotor\, al tiempo que tienen un acercamiento a la danza y a la música de Mozart\, Gynt\, Tchaikovsky y Strauss.
URL:https://solamentemusica.com/evento/danza-bebe/
LOCATION:CENART – Auditorio Blas Galindo\, Av. Río Churubusco s/n\, Coyoacán\, CDMX\, CDMX\, CDMX\, 04210\, Mexico
CATEGORIES:Concierto
ATTACH;FMTTYPE=image/webp:https://solamentemusica.com/wp-content/uploads/2026/04/PV_Danza-bebe-2026_EVENTO_Web.webp
END:VEVENT
BEGIN:VEVENT
DTSTART;TZID=America/Mexico_City:20260429T190000
DTEND;TZID=America/Mexico_City:20260429T200000
DTSTAMP:20260422T052241
CREATED:20260421T200137Z
LAST-MODIFIED:20260421T200137Z
UID:3134-1777489200-1777492800@solamentemusica.com
SUMMARY:HACKOUT!+SOFIA ESCAMILLA + YUKO CORNALE
DESCRIPTION:𝐓𝐫𝐞𝐬 𝐟𝐨𝐫𝐦𝐚𝐬 𝐝𝐞 𝐡𝐚𝐛𝐢𝐭𝐚𝐫 𝐞𝐥 𝐬𝐨𝐧𝐢𝐝𝐨\nHACKOUT! + SOFÍA ESCAMILLA + YUKO CORNALES\nParticipan: Manuel Caliumi\, Luca Zennaro\, Riccardo Cocetti\, Sofía Escamilla y Yuko Cornales\n\n\nEste concierto reúne a artistas que han desarrollado búsquedas sonoras desde perspectivas distintas. HackOut! explora la tensión entre la estructura del jazz contemporáneo y la improvisación; Sofía Escamilla expande las posibilidades del violonchelo mediante electrónica en tiempo real; Yuko Cornale desarrolla la voz como materia sonora\, gesto y presencia. El resultado es un programa que apuesta por el diálogo\, la escucha y la composición colectiva desde\nla diferencia.\n\n\nEl evento se presentará el 29 de abril a las 19 horas en la Sala Murray Schafer de la Fonoteca Nacional. Entrada libre\, cupo limitado a 80 personas.\n\n\n#FonotecaNacional
URL:https://solamentemusica.com/evento/hackoutsofia-escamilla-yuko-cornale/
LOCATION:Fonoteca Nacional\, Francisco Sosa 383\, Barrio de Santa Catarina\, Coyoacán\, Mexico\, CDMX\, 04010
CATEGORIES:Concierto
ATTACH;FMTTYPE=image/jpeg:https://solamentemusica.com/wp-content/uploads/2026/04/hackout-sofiaescamilla.jpg
END:VEVENT
END:VCALENDAR