BEGIN:VCALENDAR
VERSION:2.0
PRODID:-//SOL@menteMUSICA - ECPv6.15.20//NONSGML v1.0//EN
CALSCALE:GREGORIAN
METHOD:PUBLISH
X-ORIGINAL-URL:https://solamentemusica.com
X-WR-CALDESC:Eventos para SOL@menteMUSICA
REFRESH-INTERVAL;VALUE=DURATION:PT1H
X-Robots-Tag:noindex
X-PUBLISHED-TTL:PT1H
BEGIN:VTIMEZONE
TZID:America/Mexico_City
BEGIN:STANDARD
TZOFFSETFROM:-0600
TZOFFSETTO:-0600
TZNAME:CST
DTSTART:20250101T000000
END:STANDARD
END:VTIMEZONE
BEGIN:VEVENT
DTSTART;TZID=America/Mexico_City:20260430T190000
DTEND;TZID=America/Mexico_City:20260430T210000
DTSTAMP:20260423T094640
CREATED:20260421T200951Z
LAST-MODIFIED:20260421T200951Z
UID:3138-1777575600-1777582800@solamentemusica.com
SUMMARY:JULIAN SHORE TRIO Neuma\, Festival Internacional de Jazz de la CDMX
DESCRIPTION:JULIAN SHORE TRIO\n𝐍𝐞𝐮𝐦𝐚\, 𝐮𝐧 𝐞𝐧𝐜𝐮𝐞𝐧𝐭𝐫𝐨 𝐜𝐨𝐧 𝐞𝐥 𝐣𝐚𝐳𝐳 𝐜𝐨𝐧𝐭𝐞𝐦𝐩𝐨𝐫𝐚́𝐧𝐞𝐨 \nLa Fonoteca Nacional será una de las sedes de la octava edición de Neuma\, Festival Internacional de Jazz de la Ciudad de México\, con la presentación del trío neoyorquino Julian Shore Trio. Integrado por piano\, contrabajo y batería\, el ensamble ha desarrollado un lenguaje donde el lirismo y la improvisación entre sus integrantes abren nuevas formas de habitar el jazz contemporáneo. \nLa presentación se realizará el 30 de abril a las 19 h como parte del International Jazz Day impulsado por la UNESCO\, una celebración que reconoce al jazz como un espacio de encuentro entre distintas tradiciones sonoras. \nLes invitamos a acompañarnos en esta noche de jazz en la Fonoteca Nacional. Entrada libre\, cupo limitado a 80 personas. \n#FonotecaNacional
URL:https://solamentemusica.com/evento/julian-shore-trio-neuma-festival-internacional-de-jazz-de-la-cdmx/
LOCATION:Fonoteca Nacional\, Francisco Sosa 383\, Barrio de Santa Catarina\, Coyoacán\, Mexico\, CDMX\, 04010
ATTACH;FMTTYPE=image/jpeg:https://solamentemusica.com/wp-content/uploads/2026/04/JULIANSHORETRIO.jpg
END:VEVENT
END:VCALENDAR